BEGIN:VCALENDAR
VERSION:2.0
PRODID:-//Date iCal//NONSGML kigkonsult.se iCalcreator 2.20.2//
METHOD:PUBLISH
BEGIN:VTIMEZONE
TZID:America/Toronto
BEGIN:STANDARD
DTSTART:20251102T020000
TZOFFSETFROM:-0400
TZOFFSETTO:-0500
TZNAME:EST
END:STANDARD
BEGIN:DAYLIGHT
DTSTART:20260308T020000
TZOFFSETFROM:-0500
TZOFFSETTO:-0400
TZNAME:EDT
END:DAYLIGHT
END:VTIMEZONE
BEGIN:VEVENT
UID:calendar.1168.events_uoft_date.0@www.entrepreneurship.artsci.utoronto.c
 a
CREATED:20260217T203857Z
DESCRIPTION:\nWhen and Where: \nThursday, March 26, 2026 5:00 pm to 7:00 
 pm \n W758+760 \n Schwartz Reisman I\novation Campus \n 108 College Street
 , Toronto, ON M5G 0C6 \n\nSpeakers \nSapna Saleem \n\nDescription: \nWhi
 le your idea can start a business, are you ready to turn your story into 
 a movement? Join us and discover how authentic connections can transform y
 our leadership journey. This workshop will empower aspiring entrepreneurs 
 to harness the power of authentic relationships and influence others. Thro
 ugh this interactive workshop, you will reflect on the heart behind your 
 vision and the impact you want to create. You will develop strategies to b
 uild meaningful relationships with authenticity and inspire others to join
  your journey. By participating in this interactive workshop facilitated b
 y Sapna Saleem, one of the Venture Mentoring Service (VMS) mentors, you 
 will have the opportunity to: Identify strategies to recognize why you car
 e about what you are called to doDevelop strategies to build connections w
 ith authenticity through your storyDiscover ways to inspire action and all
 ow others to join your vision This workshop is the last session of a six-p
 art series, designed to help you cultivate an entrepreneurial mindset. RE
 GISTER FOR LEADING THROUGH AUTHENTICITY & MEANINGFUL RELATIONSHIPS PLEASE 
 NOTE:Photography, audio and video recording may occur throughout this eve
 nt. Therefore, by attending Curiosity to Creation, you hereby authorize 
 the University of Toronto to take your photograph, video and/or record yo
 ur voice and grant the university all rights to these sounds, still or mo
 ving images in any medium for educational, promotional, marketing, adve
 rtising or other such purposes that support the mission of the university.
  If you do not consent to this, please speak with a university representa
 tive upon your arrival. \n108 College Street, Toronto, ON M5G 0C6 \n\nCa
 tegories \n SeminarsWorkshops \n\nAudiences \n Alumni and FriendsFirst-Yea
 r StudentsGraduate StudentsGraduating StudentsStaffUndergraduate Students
DTSTART;TZID=America/Toronto:20260326T170000
DTEND;TZID=America/Toronto:20260326T190000
LAST-MODIFIED:20260217T204032Z
LOCATION:108 College Street, Toronto, ON M5G 0C6
SUMMARY:Leading through Authenticity & Meaningful Relationships: A Workshop
  with Sapna Saleem
URL;TYPE=URI:https://www.entrepreneurship.artsci.utoronto.ca/events/leading
 -through-authenticity-meaningful-relationships-workshop-sapna-saleem
END:VEVENT
END:VCALENDAR
